BEGIN:VCALENDAR
VERSION:2.0
PRODID:-//Kulturfreunde Heroldsberg - ECPv6.15.13.1//NONSGML v1.0//EN
CALSCALE:GREGORIAN
METHOD:PUBLISH
X-ORIGINAL-URL:https://kulturfreunde-heroldsberg.de
X-WR-CALDESC:Veranstaltungen für Kulturfreunde Heroldsberg
REFRESH-INTERVAL;VALUE=DURATION:PT1H
X-Robots-Tag:noindex
X-PUBLISHED-TTL:PT1H
BEGIN:VTIMEZONE
TZID:UTC
BEGIN:STANDARD
TZOFFSETFROM:+0000
TZOFFSETTO:+0000
TZNAME:UTC
DTSTART:20250101T000000
END:STANDARD
END:VTIMEZONE
BEGIN:VEVENT
DTSTART;TZID=UTC:20260704T103000
DTEND;TZID=UTC:20260704T120000
DTSTAMP:20260425T154307
CREATED:20260105T102552Z
LAST-MODIFIED:20260105T102552Z
UID:2885-1783161000-1783166400@kulturfreunde-heroldsberg.de
SUMMARY:Heroldsberger Ortsführungen
DESCRIPTION:Heroldsberg wird oft auch als die „Vier-Schlösser-Gemeinde“ bezeichnet. Zusammen mit dem Pfarrhaus sowie der evangelischen Kirche St. Matthäus bilden die vier Geuder-Schlösser ein einzigartiges mittelalterliches Ensemble am Oberen Markt. Es gibt aber auch eine ganze Reihe weiterer Sehenswürdigkeiten\, z. B. den Felsenkeller\, das Gründlachtal sowie viele historische Gasthäuser im Unteren Markt. Heroldsberg kann auf eine fast 1000-jährige\, äußerst interessante Geschichte zurückblicken. \nDie Kulturfreunde bieten auch 2026 von Mai bis Oktober an jedem ersten Samstag des Monats Ortsführungen durch den historischen Ortskern und zu interessanten Sehenswürdigkeiten an. \nZu Ihrem Wunschtermin oder Ihrer besonderen Veranstaltung organisieren wir auch Sonderführungen für Gruppen. (Mail-Anfrage) \nVon Mai bis Oktober\, jeweils am ersten Samstag des Monats\n10.30 Uhr\, Dauer: ca. 1\,5 Std.\,\nTreffpunkt:  Festplatz am Löwenbrunnen\, Heroldsberg\nUnkostenbeitrag: 4 Euro\nIndividuelle Gruppenführungen nach Vereinbarung\n(4 Euro pro Person\, jedoch mind. 80 Euro)\, Tel.: 0911 518 75 35
URL:https://kulturfreunde-heroldsberg.de/event/20260704
LOCATION:Treffpunkt: Festplatz am Löwenbrunnen\, Heroldsberg\, Festplatz\, Heroldsberg\, Bayern\, 90562\, Deutschland
CATEGORIES:Ortsgeschichte
ATTACH;FMTTYPE=image/png:https://kulturfreunde-heroldsberg.de/wp-content/uploads/2023/01/Rotes-Schloss-Ortsfuehrungen.png
END:VEVENT
BEGIN:VEVENT
DTSTART;TZID=UTC:20260705T150000
DTEND;TZID=UTC:20260705T150000
DTSTAMP:20260425T154307
CREATED:20260105T104034Z
LAST-MODIFIED:20260105T104034Z
UID:2916-1783263600-1783263600@kulturfreunde-heroldsberg.de
SUMMARY:Museumsführung
DESCRIPTION:Regelmäßig finden am Sonntag Führungen durch das Museum im Weißen Schloss Heroldsberg statt. \nBeginn jeweils 15.00 Uhr
URL:https://kulturfreunde-heroldsberg.de/event/20260705
LOCATION:Weißes Schloss Heroldsberg\, Kirchenweg 4\, Heroldsberg\, Bayern\, 90562\, Deutschland
CATEGORIES:Museumsführung
ATTACH;FMTTYPE=image/png:https://kulturfreunde-heroldsberg.de/wp-content/uploads/2023/01/Museumsfuehrungen.png
END:VEVENT
BEGIN:VEVENT
DTSTART;TZID=UTC:20260711T200000
DTEND;TZID=UTC:20260711T200000
DTSTAMP:20260425T154307
CREATED:20260105T130540Z
LAST-MODIFIED:20260105T130652Z
UID:2972-1783800000-1783800000@kulturfreunde-heroldsberg.de
SUMMARY:Der Schdief mit Band
DESCRIPTION:fränkisch-rockig \nDie Band „Der Schdief” wurde 2014 von Steven Furnari gegründet. Ziel waren rockige Songs mit fränkischen Texten\, die mitten aus dem Leben gegriffen sind. \nDie vorgetragenen Songs erzählen lustige bis bissige Geschichten über Schleimscheißer\, Fußballmoderatoren und das verrückte und manchmal liebenswerte Leben in der Region sowie der fränkischen Metropole. Kritiker sprachen davon\, dass Lieder wie „Waffelbeck“\, „Su Schee“\, „Mir doch worschd“ oder „Schleimscheißer“ regelrechte Ohrwürmer seien. Einige Songs wurden bereits u.a. bei Radio F\, Radio Gong anmoderiert und gespielt. Die Zielgruppen sind kulturoffene und kulturell interessierte Bürger\, die sowohl fränkischen Dialekt als auch rockige Musik mögen. \nAlle Texte sind vom ”Schdief”. Die Musik stammt teils von Bernd Oettinger\, sind teils Eigenkompositionen oder Parodien. \nDie Band besteht aus 5 erfahrenen Musikern aus Nürnberg\, Fürth\, Hersbruck und Feucht. \nSamstag\, 11. Juli\, 20.00 Uhr\, Hof Weißes Schloss Heroldsberg\nKarten im Vorverkauf: 16 Euro\, Mitglieder: 14 Euro\, Schüler und Studenten: 12 Euro\nWeißes Schloss Heroldsberg\, Kirchenweg 4\, Tel.: 0911 23 73 42 60\nAbendkasse: 18 Euro\, 16 Euro\, 14 Euro\nBei schlechtem Wetter wird die Veranstaltung auf den 1. August verschoben. Karten behalten ihre Gültigkeit. \n 
URL:https://kulturfreunde-heroldsberg.de/event/20260711
LOCATION:Hof Weißes Schloss Heroldsberg\, Kirchenweg 4\, Heroldsberg\, Bayern\, 90562\, Deutschland
CATEGORIES:Konzert
ATTACH;FMTTYPE=image/png:https://kulturfreunde-heroldsberg.de/wp-content/uploads/2026/01/2026_07_11-Der_Schdief.png
END:VEVENT
BEGIN:VEVENT
DTSTART;TZID=UTC:20260717T200000
DTEND;TZID=UTC:20260717T200000
DTSTAMP:20260425T154307
CREATED:20260105T131228Z
LAST-MODIFIED:20260107T173707Z
UID:2975-1784318400-1784318400@kulturfreunde-heroldsberg.de
SUMMARY:Folk im Schloss
DESCRIPTION:The Folkettes + Gents mit Fun\, Folk & Tales \nThe Folkettes\, Stefanie Lohse-Coors und Luna Mittig\, servieren stimmgewaltig schmissigen\, handgemachten irischen\, schottischen und weiteren Folk und Folkabilly mit viel Humor\, Spielfreude und interessanten Geschichten. \nUnterstützt werden sie von den „Gents“ Arnold Graef am Kontrabass und Gerd Krüger mit Akkordeon\, Gitarre und Gesang. Ihre besondere Spezialität sind launige Anekdoten und interessante Hintergrundgeschichten zu den Songs\, gewürzt mit abwechslungsreichen musikalischen Arrangements\, bei denen auch gerne mal virtuos die Instrumente getauscht werden. Gute-Laune-Musik nicht nur für eingefleischte Fans des Genres\, bei der jede Location spontan auch zum Irish Pub wird. Bekannte und auch weniger bekannte Songs aus Celtic Folk\, Pop oder auch mal Country-Folk bekommen durch den besonderen Sound und Stil der Band ihren ganz eigenen Ausdruck. \nFreitag\, 17. Juli\, 20.00 Uhr\, Hof Weißes Schloss Heroldsberg\nKarten im Vorverkauf: 24 Euro\, Mitglieder: 22 Euro\, Schüler und Studenten: 20 Euro\nWeißes Schloss Heroldsberg\, Kirchenweg 4\, Tel.: 0911 23 73 42 60\nAbendkasse: 26 Euro\, 24 Euro\, 22 Euro\nBei schlechtem Wetter findet das Konzert in der Kulturscheune statt.
URL:https://kulturfreunde-heroldsberg.de/event/20260717
LOCATION:Hof Weißes Schloss Heroldsberg\, Kirchenweg 4\, Heroldsberg\, Bayern\, 90562\, Deutschland
CATEGORIES:Konzert
ATTACH;FMTTYPE=image/png:https://kulturfreunde-heroldsberg.de/wp-content/uploads/2026/01/2026_07_25-Folkettes-Gents-Fun-by-Torsten-de-Souza-Santos.png
END:VEVENT
BEGIN:VEVENT
DTSTART;TZID=UTC:20260719T150000
DTEND;TZID=UTC:20260719T150000
DTSTAMP:20260425T154307
CREATED:20260105T104110Z
LAST-MODIFIED:20260105T104110Z
UID:2918-1784473200-1784473200@kulturfreunde-heroldsberg.de
SUMMARY:Museumsführung
DESCRIPTION:Regelmäßig finden am Sonntag Führungen durch das Museum im Weißen Schloss Heroldsberg statt. \nBeginn jeweils 15.00 Uhr
URL:https://kulturfreunde-heroldsberg.de/event/20260719
LOCATION:Weißes Schloss Heroldsberg\, Kirchenweg 4\, Heroldsberg\, Bayern\, 90562\, Deutschland
CATEGORIES:Museumsführung
ATTACH;FMTTYPE=image/png:https://kulturfreunde-heroldsberg.de/wp-content/uploads/2023/01/Museumsfuehrungen.png
END:VEVENT
BEGIN:VEVENT
DTSTART;TZID=UTC:20260801T103000
DTEND;TZID=UTC:20260801T120000
DTSTAMP:20260425T154307
CREATED:20260105T102646Z
LAST-MODIFIED:20260105T102646Z
UID:2887-1785580200-1785585600@kulturfreunde-heroldsberg.de
SUMMARY:Heroldsberger Ortsführungen
DESCRIPTION:Heroldsberg wird oft auch als die „Vier-Schlösser-Gemeinde“ bezeichnet. Zusammen mit dem Pfarrhaus sowie der evangelischen Kirche St. Matthäus bilden die vier Geuder-Schlösser ein einzigartiges mittelalterliches Ensemble am Oberen Markt. Es gibt aber auch eine ganze Reihe weiterer Sehenswürdigkeiten\, z. B. den Felsenkeller\, das Gründlachtal sowie viele historische Gasthäuser im Unteren Markt. Heroldsberg kann auf eine fast 1000-jährige\, äußerst interessante Geschichte zurückblicken. \nDie Kulturfreunde bieten auch 2026 von Mai bis Oktober an jedem ersten Samstag des Monats Ortsführungen durch den historischen Ortskern und zu interessanten Sehenswürdigkeiten an. \nZu Ihrem Wunschtermin oder Ihrer besonderen Veranstaltung organisieren wir auch Sonderführungen für Gruppen. (Mail-Anfrage) \nVon Mai bis Oktober\, jeweils am ersten Samstag des Monats\n10.30 Uhr\, Dauer: ca. 1\,5 Std.\,\nTreffpunkt:  Festplatz am Löwenbrunnen\, Heroldsberg\nUnkostenbeitrag: 4 Euro\nIndividuelle Gruppenführungen nach Vereinbarung\n(4 Euro pro Person\, jedoch mind. 80 Euro)\, Tel.: 0911 518 75 35
URL:https://kulturfreunde-heroldsberg.de/event/20260801
LOCATION:Treffpunkt: Festplatz am Löwenbrunnen\, Heroldsberg\, Festplatz\, Heroldsberg\, Bayern\, 90562\, Deutschland
CATEGORIES:Ortsgeschichte
ATTACH;FMTTYPE=image/png:https://kulturfreunde-heroldsberg.de/wp-content/uploads/2023/01/Rotes-Schloss-Ortsfuehrungen.png
END:VEVENT
BEGIN:VEVENT
DTSTART;TZID=UTC:20260802T150000
DTEND;TZID=UTC:20260802T150000
DTSTAMP:20260425T154307
CREATED:20260105T104139Z
LAST-MODIFIED:20260105T104139Z
UID:2920-1785682800-1785682800@kulturfreunde-heroldsberg.de
SUMMARY:Museumsführung
DESCRIPTION:Regelmäßig finden am Sonntag Führungen durch das Museum im Weißen Schloss Heroldsberg statt. \nBeginn jeweils 15.00 Uhr
URL:https://kulturfreunde-heroldsberg.de/event/20260802
LOCATION:Weißes Schloss Heroldsberg\, Kirchenweg 4\, Heroldsberg\, Bayern\, 90562\, Deutschland
CATEGORIES:Museumsführung
ATTACH;FMTTYPE=image/png:https://kulturfreunde-heroldsberg.de/wp-content/uploads/2023/01/Museumsfuehrungen.png
END:VEVENT
BEGIN:VEVENT
DTSTART;TZID=UTC:20260816T150000
DTEND;TZID=UTC:20260816T150000
DTSTAMP:20260425T154307
CREATED:20260105T104215Z
LAST-MODIFIED:20260105T104215Z
UID:2922-1786892400-1786892400@kulturfreunde-heroldsberg.de
SUMMARY:Museumsführung
DESCRIPTION:Regelmäßig finden am Sonntag Führungen durch das Museum im Weißen Schloss Heroldsberg statt. \nBeginn jeweils 15.00 Uhr
URL:https://kulturfreunde-heroldsberg.de/event/20260816
LOCATION:Weißes Schloss Heroldsberg\, Kirchenweg 4\, Heroldsberg\, Bayern\, 90562\, Deutschland
CATEGORIES:Museumsführung
ATTACH;FMTTYPE=image/png:https://kulturfreunde-heroldsberg.de/wp-content/uploads/2023/01/Museumsfuehrungen.png
END:VEVENT
BEGIN:VEVENT
DTSTART;TZID=UTC:20260905T103000
DTEND;TZID=UTC:20260905T120000
DTSTAMP:20260425T154307
CREATED:20260105T102730Z
LAST-MODIFIED:20260105T102730Z
UID:2889-1788604200-1788609600@kulturfreunde-heroldsberg.de
SUMMARY:Heroldsberger Ortsführungen
DESCRIPTION:Heroldsberg wird oft auch als die „Vier-Schlösser-Gemeinde“ bezeichnet. Zusammen mit dem Pfarrhaus sowie der evangelischen Kirche St. Matthäus bilden die vier Geuder-Schlösser ein einzigartiges mittelalterliches Ensemble am Oberen Markt. Es gibt aber auch eine ganze Reihe weiterer Sehenswürdigkeiten\, z. B. den Felsenkeller\, das Gründlachtal sowie viele historische Gasthäuser im Unteren Markt. Heroldsberg kann auf eine fast 1000-jährige\, äußerst interessante Geschichte zurückblicken. \nDie Kulturfreunde bieten auch 2026 von Mai bis Oktober an jedem ersten Samstag des Monats Ortsführungen durch den historischen Ortskern und zu interessanten Sehenswürdigkeiten an. \nZu Ihrem Wunschtermin oder Ihrer besonderen Veranstaltung organisieren wir auch Sonderführungen für Gruppen. (Mail-Anfrage) \nVon Mai bis Oktober\, jeweils am ersten Samstag des Monats\n10.30 Uhr\, Dauer: ca. 1\,5 Std.\,\nTreffpunkt:  Festplatz am Löwenbrunnen\, Heroldsberg\nUnkostenbeitrag: 4 Euro\nIndividuelle Gruppenführungen nach Vereinbarung\n(4 Euro pro Person\, jedoch mind. 80 Euro)\, Tel.: 0911 518 75 35
URL:https://kulturfreunde-heroldsberg.de/event/20260905
LOCATION:Treffpunkt: Festplatz am Löwenbrunnen\, Heroldsberg\, Festplatz\, Heroldsberg\, Bayern\, 90562\, Deutschland
CATEGORIES:Ortsgeschichte
ATTACH;FMTTYPE=image/png:https://kulturfreunde-heroldsberg.de/wp-content/uploads/2023/01/Rotes-Schloss-Ortsfuehrungen.png
END:VEVENT
BEGIN:VEVENT
DTSTART;TZID=UTC:20260906T150000
DTEND;TZID=UTC:20260906T150000
DTSTAMP:20260425T154307
CREATED:20260105T104256Z
LAST-MODIFIED:20260105T104256Z
UID:2924-1788706800-1788706800@kulturfreunde-heroldsberg.de
SUMMARY:Museumsführung
DESCRIPTION:Regelmäßig finden am Sonntag Führungen durch das Museum im Weißen Schloss Heroldsberg statt. \nBeginn jeweils 15.00 Uhr
URL:https://kulturfreunde-heroldsberg.de/event/20260906
LOCATION:Weißes Schloss Heroldsberg\, Kirchenweg 4\, Heroldsberg\, Bayern\, 90562\, Deutschland
CATEGORIES:Museumsführung
ATTACH;FMTTYPE=image/png:https://kulturfreunde-heroldsberg.de/wp-content/uploads/2023/01/Museumsfuehrungen.png
END:VEVENT
BEGIN:VEVENT
DTSTART;TZID=UTC:20260920T140000
DTEND;TZID=UTC:20260920T140000
DTSTAMP:20260425T154307
CREATED:20260106T075514Z
LAST-MODIFIED:20260106T075722Z
UID:2978-1789912800-1789912800@kulturfreunde-heroldsberg.de
SUMMARY:Zur Heroldsberger Kerwa: Broutbackn' nach alter Art
DESCRIPTION:Musikalisch umrahmt vom Claus Raumberger Ensemble \nSeit rund 35 Jahren findet jeweils am Kirchweihsonntag das beliebte Broutbackn´ statt. Im Backofen bei der Kulturscheune werden nach überlieferten Rezepten Holzofenbrote gebacken\, wie es früher bei den Bauern unserer Region üblich war. Die Brote werden von den Kulturfreunden mit den verschiedensten Leckereien belegt. Dazu gibt es süffiges Landbier\, Wein und natürlich auch alkoholfreie Getränke. \nAußerdem gibt es wieder den „Broutkoung“\, eine urfränkische Spezialität. Die Bauern formten aus dem restlichen Teig dünne\, runde Fladen\, die später auch mit Speck und Zwiebeln belegt wurden. Dieser „Broutkoung“ wurde nach dem eigentlichen Brotbacken in der restlichen Ofenhitze gebacken. \nMusikalisch garniert wird der Nachmittag vom Claus Raumberger Ensemble. \nSonntag\, 20. September\, ab 14.00 Uhr\, Kulturscheune\, Oberer Markt 19\nEintritt frei – Spenden erbeten\nBei schlechtem Wetter fällt die Veranstaltung aus.
URL:https://kulturfreunde-heroldsberg.de/event/20260920-2
LOCATION:Kulturscheune Heroldsberg\, Oberer Markt 19\, Heroldsberg\, Bayern\, 90562\, Deutschland
CATEGORIES:Geselligkeit
ATTACH;FMTTYPE=image/png:https://kulturfreunde-heroldsberg.de/wp-content/uploads/2026/01/2026_09_20-Broutbackn.png
END:VEVENT
BEGIN:VEVENT
DTSTART;TZID=UTC:20260920T150000
DTEND;TZID=UTC:20260920T150000
DTSTAMP:20260425T154307
CREATED:20260105T104335Z
LAST-MODIFIED:20260105T104335Z
UID:2926-1789916400-1789916400@kulturfreunde-heroldsberg.de
SUMMARY:Museumsführung
DESCRIPTION:Regelmäßig finden am Sonntag Führungen durch das Museum im Weißen Schloss Heroldsberg statt. \nBeginn jeweils 15.00 Uhr
URL:https://kulturfreunde-heroldsberg.de/event/20260920
LOCATION:Weißes Schloss Heroldsberg\, Kirchenweg 4\, Heroldsberg\, Bayern\, 90562\, Deutschland
CATEGORIES:Museumsführung
ATTACH;FMTTYPE=image/png:https://kulturfreunde-heroldsberg.de/wp-content/uploads/2023/01/Museumsfuehrungen.png
END:VEVENT
BEGIN:VEVENT
DTSTART;TZID=UTC:20261003T103000
DTEND;TZID=UTC:20261003T120000
DTSTAMP:20260425T154307
CREATED:20260105T102823Z
LAST-MODIFIED:20260105T102823Z
UID:2891-1791023400-1791028800@kulturfreunde-heroldsberg.de
SUMMARY:Heroldsberger Ortsführungen
DESCRIPTION:Heroldsberg wird oft auch als die „Vier-Schlösser-Gemeinde“ bezeichnet. Zusammen mit dem Pfarrhaus sowie der evangelischen Kirche St. Matthäus bilden die vier Geuder-Schlösser ein einzigartiges mittelalterliches Ensemble am Oberen Markt. Es gibt aber auch eine ganze Reihe weiterer Sehenswürdigkeiten\, z. B. den Felsenkeller\, das Gründlachtal sowie viele historische Gasthäuser im Unteren Markt. Heroldsberg kann auf eine fast 1000-jährige\, äußerst interessante Geschichte zurückblicken. \nDie Kulturfreunde bieten auch 2026 von Mai bis Oktober an jedem ersten Samstag des Monats Ortsführungen durch den historischen Ortskern und zu interessanten Sehenswürdigkeiten an. \nZu Ihrem Wunschtermin oder Ihrer besonderen Veranstaltung organisieren wir auch Sonderführungen für Gruppen. (Mail-Anfrage) \nVon Mai bis Oktober\, jeweils am ersten Samstag des Monats\n10.30 Uhr\, Dauer: ca. 1\,5 Std.\,\nTreffpunkt:  Festplatz am Löwenbrunnen\, Heroldsberg\nUnkostenbeitrag: 4 Euro\nIndividuelle Gruppenführungen nach Vereinbarung\n(4 Euro pro Person\, jedoch mind. 80 Euro)\, Tel.: 0911 518 75 35
URL:https://kulturfreunde-heroldsberg.de/event/20261003
LOCATION:Treffpunkt: Festplatz am Löwenbrunnen\, Heroldsberg\, Festplatz\, Heroldsberg\, Bayern\, 90562\, Deutschland
CATEGORIES:Ortsgeschichte
ATTACH;FMTTYPE=image/png:https://kulturfreunde-heroldsberg.de/wp-content/uploads/2023/01/Rotes-Schloss-Ortsfuehrungen.png
END:VEVENT
BEGIN:VEVENT
DTSTART;TZID=UTC:20261003T200000
DTEND;TZID=UTC:20261003T200000
DTSTAMP:20260425T154307
CREATED:20260106T080340Z
LAST-MODIFIED:20260106T080422Z
UID:2981-1791057600-1791057600@kulturfreunde-heroldsberg.de
SUMMARY:"Früher war mehr Lametta" - ein Abend mit Loriot
DESCRIPTION:Ein Urgestein der deutschen Film- und Comedy-Szene \nEr war Cartoonist\, Werbegraphiker\, Kostümbildner\, Operndirigent und der beliebteste Fernsehkomiker seiner Zeit. In seinen Bildern und Szenen treibt er Alltagssituationen auf die Spitze. Zum Vergnügen des Publikums scheitern seine Protagonisten immer wieder an Banalitäten\, an Konventionen\, am täglichen Gespräch. \nSilvia Ferstl und Christoph Ackermann zeigen mehr als nur ein Potpourri der schönsten Sketche. Der Abend verwebt das Leben von Loriot mit seinem Schaffen und gesellschaftlichen Entwicklungen – vom eisernen Kreuz bis zur Honorarprofessur\, von den ersten Zeichnungen bis zu den großen Kinoerfolgen\, von Emanzipation bis Medienrevolution. \nEin vergnüglicher Abend voller Erinnerungen. Holleri du dödl di! \nSamstag\, 3. Oktober\, 20.00 Uhr\, Bürgersaal\, Hauptstr. 104\nKarten im Vorverkauf: 24 Euro\, Mitglieder: 22 Euro\, Schüler und Studenten: 20 Euro\nWeißes Schloss Heroldsberg\, Kirchenweg 4\, Tel.: 0911 23 73 42 60\nAbendkasse: 26 Euro\, 24 Euro\, 22 Euro
URL:https://kulturfreunde-heroldsberg.de/event/20261003-2
LOCATION:Bürgersaal Heroldsberg\, Hauptstr. 104\, Heroldsberg\, Bayern\, 90562\, Deutschland
CATEGORIES:Kabarett
ATTACH;FMTTYPE=image/png:https://kulturfreunde-heroldsberg.de/wp-content/uploads/2026/01/2026_10_03-Frueher-war-mehr-Lametta.png
END:VEVENT
BEGIN:VEVENT
DTSTART;TZID=UTC:20261004T150000
DTEND;TZID=UTC:20261004T150000
DTSTAMP:20260425T154307
CREATED:20260105T104409Z
LAST-MODIFIED:20260105T104409Z
UID:2928-1791126000-1791126000@kulturfreunde-heroldsberg.de
SUMMARY:Museumsführung
DESCRIPTION:Regelmäßig finden am Sonntag Führungen durch das Museum im Weißen Schloss Heroldsberg statt. \nBeginn jeweils 15.00 Uhr
URL:https://kulturfreunde-heroldsberg.de/event/20261004
LOCATION:Weißes Schloss Heroldsberg\, Kirchenweg 4\, Heroldsberg\, Bayern\, 90562\, Deutschland
CATEGORIES:Museumsführung
ATTACH;FMTTYPE=image/png:https://kulturfreunde-heroldsberg.de/wp-content/uploads/2023/01/Museumsfuehrungen.png
END:VEVENT
BEGIN:VEVENT
DTSTART;TZID=UTC:20261017T183000
DTEND;TZID=UTC:20261017T183000
DTSTAMP:20260425T154307
CREATED:20260106T081132Z
LAST-MODIFIED:20260106T104434Z
UID:2984-1792261800-1792261800@kulturfreunde-heroldsberg.de
SUMMARY:Virtuelle Ortsführung durch Heroldsberg
DESCRIPTION:Mit Gerhard Püchner \nDiese Ortsführung ist speziell. Mit alten Luftaufnahmen\, hauptsächlich aus den 1950er Jahren und anderen\, teilweise noch älteren Fotografien\, führt Gerhard Püchner durch Heroldsberg. Mit dabei sind Aufnahmen von Gebäuden\, die es nicht mehr gibt. \nIn Heroldsberg aufgewachsen\, kann Gerhard Püchner Anekdoten und Unterhaltsames aus dieser Zeit erzählen. Freuen Sie sich auf einen interessanten Abend. \nSamstag\, 17. Oktober\, 18.30 Uhr\, Weißes Schloss Heroldsberg\nKarten im Vorverkauf: 6 Euro\, Mitglieder: 5 Euro\, Schüler und Studenten: 4 Euro\nWeißes Schloss Heroldsberg\, Kirchenweg 4\, Tel.: 0911 23 73 42 60\nAbendkasse: 7 Euro\, 6 Euro\, 5 Euro
URL:https://kulturfreunde-heroldsberg.de/event/20261017
LOCATION:Weißes Schloss Heroldsberg\, Kirchenweg 4\, Heroldsberg\, Bayern\, 90562\, Deutschland
CATEGORIES:Ortsgeschichte
ATTACH;FMTTYPE=image/png:https://kulturfreunde-heroldsberg.de/wp-content/uploads/2024/12/2025_04_12-Virtuelle-Ortsfuehrung.png
END:VEVENT
BEGIN:VEVENT
DTSTART;TZID=UTC:20261018T150000
DTEND;TZID=UTC:20261018T150000
DTSTAMP:20260425T154307
CREATED:20260105T104441Z
LAST-MODIFIED:20260105T104441Z
UID:2930-1792335600-1792335600@kulturfreunde-heroldsberg.de
SUMMARY:Museumsführung
DESCRIPTION:Regelmäßig finden am Sonntag Führungen durch das Museum im Weißen Schloss Heroldsberg statt. \nBeginn jeweils 15.00 Uhr
URL:https://kulturfreunde-heroldsberg.de/event/20261018
LOCATION:Weißes Schloss Heroldsberg\, Kirchenweg 4\, Heroldsberg\, Bayern\, 90562\, Deutschland
CATEGORIES:Museumsführung
ATTACH;FMTTYPE=image/png:https://kulturfreunde-heroldsberg.de/wp-content/uploads/2023/01/Museumsfuehrungen.png
END:VEVENT
BEGIN:VEVENT
DTSTART;TZID=UTC:20261101T150000
DTEND;TZID=UTC:20261101T150000
DTSTAMP:20260425T154307
CREATED:20260105T104518Z
LAST-MODIFIED:20260105T104518Z
UID:2932-1793545200-1793545200@kulturfreunde-heroldsberg.de
SUMMARY:Museumsführung
DESCRIPTION:Regelmäßig finden am Sonntag Führungen durch das Museum im Weißen Schloss Heroldsberg statt. \nBeginn jeweils 15.00 Uhr
URL:https://kulturfreunde-heroldsberg.de/event/20261101
LOCATION:Weißes Schloss Heroldsberg\, Kirchenweg 4\, Heroldsberg\, Bayern\, 90562\, Deutschland
CATEGORIES:Museumsführung
ATTACH;FMTTYPE=image/png:https://kulturfreunde-heroldsberg.de/wp-content/uploads/2023/01/Museumsfuehrungen.png
END:VEVENT
BEGIN:VEVENT
DTSTART;TZID=UTC:20261115T150000
DTEND;TZID=UTC:20261115T150000
DTSTAMP:20260425T154307
CREATED:20260105T104556Z
LAST-MODIFIED:20260105T104556Z
UID:2934-1794754800-1794754800@kulturfreunde-heroldsberg.de
SUMMARY:Museumsführung
DESCRIPTION:Regelmäßig finden am Sonntag Führungen durch das Museum im Weißen Schloss Heroldsberg statt. \nBeginn jeweils 15.00 Uhr
URL:https://kulturfreunde-heroldsberg.de/event/20261115
LOCATION:Weißes Schloss Heroldsberg\, Kirchenweg 4\, Heroldsberg\, Bayern\, 90562\, Deutschland
CATEGORIES:Museumsführung
ATTACH;FMTTYPE=image/png:https://kulturfreunde-heroldsberg.de/wp-content/uploads/2023/01/Museumsfuehrungen.png
END:VEVENT
BEGIN:VEVENT
DTSTART;TZID=UTC:20261115T170000
DTEND;TZID=UTC:20261115T170000
DTSTAMP:20260425T154307
CREATED:20260106T081714Z
LAST-MODIFIED:20260106T104253Z
UID:2986-1794762000-1794762000@kulturfreunde-heroldsberg.de
SUMMARY:Konzert für Trompete\, Violine\, Viola und Orgel
DESCRIPTION:Werke vom Barock bis zur Moderne – \nAuch in diesem Jahr dürfen sich Musikliebhaber wieder auf das in Heroldsberg fest verankerte Konzert für Violine\, Viola\, Trompete und Orgel in St. Matthäus freuen. \nDie Kulturfreunde konnten erneut die in Heroldsberg beheimateten und auf vielfältige Weise im örtlichen Kulturleben engagierten Musikerinnen und Musiker Celine Wilke\, Katharina Liebster-Klakow und Cornelius Liebster gewinnen. Gemeinsam mit dem Erlanger Organisten Erich Staab gestalten sie ein abwechslungsreiches Programm\, das verschiedene musikalische Welten miteinander verbindet: Ruhe und Schwung\, virtuose Soli und fein abgestimmte kammermusikalische Momente. \nEin Konzert\, das neugierig macht und zum Genießen einlädt. \nSonntag\, 15. November\, 17.00 Uhr\, Evang. Kirche St. Matthäus\nEintritt frei – Spenden erbeten
URL:https://kulturfreunde-heroldsberg.de/event/20261115-2
LOCATION:Evang. Kirche St. Matthäus\, Kirchenweg 2\, Heroldsberg\, Bayern\, 90562\, Deutschland
CATEGORIES:Konzert
ATTACH;FMTTYPE=image/png:https://kulturfreunde-heroldsberg.de/wp-content/uploads/2026/01/2026_11_15-Herbstkonzert-Matthaeus.png
END:VEVENT
BEGIN:VEVENT
DTSTART;TZID=UTC:20261121T200000
DTEND;TZID=UTC:20261121T200000
DTSTAMP:20260425T154307
CREATED:20260106T082309Z
LAST-MODIFIED:20260106T083248Z
UID:2989-1795291200-1795291200@kulturfreunde-heroldsberg.de
SUMMARY:Wolfgang Buck: "Immerweider"
DESCRIPTION:Der fränkische Songkünstler Wolfgang Buck möchte in den nächsten Jahren nicht Abschiedstour Eins\, Zwei und Drei spielen. Er hat immer noch große Lust aufzutreten und die Leute zum Lachen und zum Weinen zu bringen. Und man weiß ja eh nicht\, wann irgendwann die Zeit da ist\, aufzuhören. \nSolange aber will der Altmeister der fränkischen gesungenen Poesie IMMERWEIDER seine Gitarren auspacken\, seine wunderbaren fränkischen Songs spielen und die Leute mit glücklichen Gesichtern und mutigen Herzen nach Hause gehen sehen. Denn für belanglose Texte ist die Zeit zu schade\, und über diejenigen\, die uns Angst einjagen wollen\, darf gelassen gelacht werden. \nSeit fast 40 Jahren spielt Wolfgang Buck seine dialektischen Songs auf den fränkischen Theater- und Konzertbühnen\, aber auch im Rest der Republik. In all der Zeit hat er sich seine humane Haltung und seinen Witz bewahrt\, seine sprachliche Süffigkeit\, sein differenziertes Denken und sein wunderbares Gitarrenspiel. Er steht oder sitzt gelassen auf der Bühne\, weltoffen\, präsent und tolerant\, die Statur bridscherbraad\, die Musik budderwaach\, die Wörter blitz-gscheid\, der ganze Mensch einfach sümbaddisch. \nSamstag\, 21. November\, 20.00 Uhr\, Bürgersaal\, Hauptstr. 104\nKarten im Vorverkauf: 24 Euro\, Mitglieder: 22 Euro\, Schüler und Studenten: 20 Euro\nWeißes Schloss Heroldsberg\, Kirchenweg 4\, Tel.: 0911 23 73 42 60\nAbendkasse: 26 Euro\, 24 Euro\, 22 Euro
URL:https://kulturfreunde-heroldsberg.de/event/20261121
LOCATION:Bürgersaal Heroldsberg\, Hauptstr. 104\, Heroldsberg\, Bayern\, 90562\, Deutschland
CATEGORIES:Kabarett,Konzert
ATTACH;FMTTYPE=image/png:https://kulturfreunde-heroldsberg.de/wp-content/uploads/2026/01/2026_11_21-immerweider_Pressefoto.png
END:VEVENT
BEGIN:VEVENT
DTSTART;TZID=UTC:20261206T150000
DTEND;TZID=UTC:20261206T150000
DTSTAMP:20260425T154307
CREATED:20260105T104631Z
LAST-MODIFIED:20260105T104631Z
UID:2936-1796569200-1796569200@kulturfreunde-heroldsberg.de
SUMMARY:Museumsführung
DESCRIPTION:Regelmäßig finden am Sonntag Führungen durch das Museum im Weißen Schloss Heroldsberg statt. \nBeginn jeweils 15.00 Uhr
URL:https://kulturfreunde-heroldsberg.de/event/20261206
LOCATION:Weißes Schloss Heroldsberg\, Kirchenweg 4\, Heroldsberg\, Bayern\, 90562\, Deutschland
CATEGORIES:Museumsführung
ATTACH;FMTTYPE=image/png:https://kulturfreunde-heroldsberg.de/wp-content/uploads/2023/01/Museumsfuehrungen.png
END:VEVENT
BEGIN:VEVENT
DTSTART;TZID=UTC:20261220T150000
DTEND;TZID=UTC:20261220T150000
DTSTAMP:20260425T154307
CREATED:20260105T104707Z
LAST-MODIFIED:20260105T104707Z
UID:2938-1797778800-1797778800@kulturfreunde-heroldsberg.de
SUMMARY:Museumsführung
DESCRIPTION:Regelmäßig finden am Sonntag Führungen durch das Museum im Weißen Schloss Heroldsberg statt. \nBeginn jeweils 15.00 Uhr
URL:https://kulturfreunde-heroldsberg.de/event/20261220
LOCATION:Weißes Schloss Heroldsberg\, Kirchenweg 4\, Heroldsberg\, Bayern\, 90562\, Deutschland
CATEGORIES:Museumsführung
ATTACH;FMTTYPE=image/png:https://kulturfreunde-heroldsberg.de/wp-content/uploads/2023/01/Museumsfuehrungen.png
END:VEVENT
BEGIN:VEVENT
DTSTART;TZID=UTC:20261230T193000
DTEND;TZID=UTC:20261230T193000
DTSTAMP:20260425T154307
CREATED:20260106T083202Z
LAST-MODIFIED:20260106T083226Z
UID:2992-1798659000-1798659000@kulturfreunde-heroldsberg.de
SUMMARY:Konzert zum Jahreswechsel
DESCRIPTION:Klangfarben und Spielfreude – BrassQuintett Nürnberg \nWenn Trompete\, Horn\, Posaune und Tuba erklingen\, dann wird´s bunt!\nDas Ensemble BrassQuintett Nürnberg\, 2024 von Simone Spaeth gegründet\, zeigt dass Musik keine Altersgrenzen kennt – weder bei der Musikerin und den Musikern\, noch bei den Klängen. Von Bach bis Jenkins\, von barocker Raffinesse bis zu südamerikanischem Schwung: hier treffen Tradition und Temperament aufeinander. \nOb ein Czardas auf der Tuba\, ein virtuoses Horn-Solo oder ein jazziger Bach – dieses Konzert verspricht Spielfreude pur. Mal klassisch\, mal schwungvoll\, mal frech – aber immer mit Leidenschaft gespielt. Musikalische Neugier\, Humor und Kreativität verbinden hier junge Energie mit reifer Erfahrung. \nSimone Spaeth – Trompete\nVincent Spaeth – Trompete\nDirk Dikhoff – Posaune\nBerthold Gunreben – Tuba\nHendrik Wächter – Hor \nFreuen Sie sich auf ein Konzert voller Vielfalt\, Überraschungen und guter Laune. \nMittwoch\, 30. Dezember\, 19.30 Uhr\, Evang. Kirche St. Matthäus\nKarten im Vorverkauf: 24 Euro\, Mitglieder: 22 Euro\, Schüler und Studenten: 20 Euro\nWeißes Schloss Heroldsberg\, Kirchenweg 4\, Tel.: 0911 23 73 42 60\nSchreibwaren Reinfelder\, Nürnberger Straße 40\, Tel.: 0911 518 03 71\nAbendkasse: 26 Euro\, 24 Euro\, 22 Euro
URL:https://kulturfreunde-heroldsberg.de/event/20261230
LOCATION:Evang. Kirche St. Matthäus\, Kirchenweg 2\, Heroldsberg\, Bayern\, 90562\, Deutschland
CATEGORIES:Konzert
ATTACH;FMTTYPE=image/png:https://kulturfreunde-heroldsberg.de/wp-content/uploads/2026/01/2026_12_30-Konzert-zum-Jahreswechsel.png
END:VEVENT
END:VCALENDAR